BEGIN:VCALENDAR
VERSION:2.0
PRODID:-//Back to Nature Network - ECPv4.6.8//NONSGML v1.0//EN
CALSCALE:GREGORIAN
METHOD:PUBLISH
X-WR-CALNAME:Back to Nature Network
X-ORIGINAL-URL:https://www.back2nature.ca
X-WR-CALDESC:Events for Back to Nature Network
BEGIN:VEVENT
DTSTART;VALUE=DATE:20170513
DTEND;VALUE=DATE:20170514
DTSTAMP:20260422T165330
CREATED:20170203T182601Z
LAST-MODIFIED:20170203T182601Z
UID:2146-1494633600-1494719999@www.back2nature.ca
SUMMARY:Ride for the Rouge at the Rouge Valley Conservation Centre
DESCRIPTION:Join us for the 24th annual Ride for the Rouge!  Take part in our annual fundraiser to ensure the continued operation of the Rouge Valley Conservation Centre and its education\, conservation\, and environmental restoration programs.  Register for a 25km or 50km ride for cyclists or a 5km guided interpretive hike.  There will be prizes for the most pledges collected\, and a BBQ lunch for all participants. Registration for the event opens at 9:00am\, and the actual event begins at 10:00am. \nYou must pre-register for this event.  See our website for details at rvcc.ca \n
URL:https://www.back2nature.ca/event/ride-for-the-rouge-at-the-rouge-valley-conservation-centre/
CATEGORIES:Environmental Education,Fundraiser
END:VEVENT
END:VCALENDAR