BEGIN:VCALENDAR
VERSION:2.0
PRODID:-//Back to Nature Network - ECPv4.6.8//NONSGML v1.0//EN
CALSCALE:GREGORIAN
METHOD:PUBLISH
X-WR-CALNAME:Back to Nature Network
X-ORIGINAL-URL:https://www.back2nature.ca
X-WR-CALDESC:Events for Back to Nature Network
BEGIN:VEVENT
DTSTART;VALUE=DATE:20170218
DTEND;VALUE=DATE:20170221
DTSTAMP:20260422T105832
CREATED:20170206T204206Z
LAST-MODIFIED:20170206T204341Z
UID:2158-1487376000-1487635199@www.back2nature.ca
SUMMARY:Family Day Weekend at the Rouge Valley Conservation Centre
DESCRIPTION:Join us for Family Day weekend crafts\, hikes and activities from 9am to 4pm!  Guided interpretive hikes will take place at 10am and 1pm.  You must pre-register for the hikes by email at info@rvcc.ca or by phone at (416)-282-8265. \nAs well\, come tell us your Rouge Canada 150 story and be a part of our Rouge Canada 150 year-long project!  Bring your story\, photos\, videos or memorabilia and help us document the great impact the Rouge has had on your life. \nKeep in touch on the RVCC website here. \n
URL:https://www.back2nature.ca/event/family-day-weekend-at-the-rouge-valley-conservation-centre/
CATEGORIES:Environmental Education
END:VEVENT
END:VCALENDAR